BEGIN:VCALENDAR
VERSION:2.0
PRODID:-//NCTitle2 - ECPv6.15.17.1//NONSGML v1.0//EN
CALSCALE:GREGORIAN
METHOD:PUBLISH
X-WR-CALNAME:NCTitle2
X-ORIGINAL-URL:https://www.nctitle2.org
X-WR-CALDESC:Events for NCTitle2
REFRESH-INTERVAL;VALUE=DURATION:PT1H
X-Robots-Tag:noindex
X-PUBLISHED-TTL:PT1H
BEGIN:VTIMEZONE
TZID:America/New_York
BEGIN:DAYLIGHT
TZOFFSETFROM:-0500
TZOFFSETTO:-0400
TZNAME:EDT
DTSTART:20250309T070000
END:DAYLIGHT
BEGIN:STANDARD
TZOFFSETFROM:-0400
TZOFFSETTO:-0500
TZNAME:EST
DTSTART:20251102T060000
END:STANDARD
BEGIN:DAYLIGHT
TZOFFSETFROM:-0500
TZOFFSETTO:-0400
TZNAME:EDT
DTSTART:20260308T070000
END:DAYLIGHT
BEGIN:STANDARD
TZOFFSETFROM:-0400
TZOFFSETTO:-0500
TZNAME:EST
DTSTART:20261101T060000
END:STANDARD
BEGIN:DAYLIGHT
TZOFFSETFROM:-0500
TZOFFSETTO:-0400
TZNAME:EDT
DTSTART:20270314T070000
END:DAYLIGHT
BEGIN:STANDARD
TZOFFSETFROM:-0400
TZOFFSETTO:-0500
TZNAME:EST
DTSTART:20271107T060000
END:STANDARD
END:VTIMEZONE
BEGIN:VEVENT
DTSTART;TZID=America/New_York:20260423T100000
DTEND;TZID=America/New_York:20260423T120000
DTSTAMP:20260423T050708
CREATED:20260408T183603Z
LAST-MODIFIED:20260408T183603Z
UID:19619-1776938400-1776945600@www.nctitle2.org
SUMMARY:New Directors' Orientation Session Three - Performance & Monitoring
DESCRIPTION:New Directors’ Orientation Session Three – Performance & Monitoring\nWhen: Thursday April 23\, 2026 (10:00am – 12:00 Noon EDT) \n \nPresented By:\nJessica Rieger\, Director of Systems and Performance Accountability\nDr. Michael Tilley\, Associate State Director for Monitoring and Accountability\nBrandy Brown\, Monitoring and Reporting Specialist \nTarget Audience: Program Directors & Coordinators \nDescription:During Session Three we will give an overview of the following topics:\n1) Title II Performance\n2) Connecting Performance to Funding\n3) AEFLA Title II Monitoring \nNOTE: This webinar series is not limited to directors. Coordinators\, deans\, vice-presidents\, and seasoned directors are also welcome to join any session(s) of their choosing. Participants can also join the series at any point. It doesn’t matter which session is their ‘first’ session. Once participants have attended all four sessions they will receive a certificate. \nWhen you receive the email confirmation of your registration\, please be sure to add the webinar to your calendar. \nIf you do not immediately receive the automated email confirmation\, please check your junk folder. The email will come from logesd@nccommunitycolleges.edu. \n  \n  \n 
URL:https://www.nctitle2.org/event/new-directors-orientation-session-three-performance-monitoring-3/
CATEGORIES:Webinar
END:VEVENT
END:VCALENDAR